BEGIN:VCALENDAR
VERSION:2.0
PRODID:-//F4 Training - ECPv6.15.20//NONSGML v1.0//EN
CALSCALE:GREGORIAN
METHOD:PUBLISH
X-ORIGINAL-URL:https://f4-training.com
X-WR-CALDESC:Events for F4 Training
REFRESH-INTERVAL;VALUE=DURATION:PT1H
X-Robots-Tag:noindex
X-PUBLISHED-TTL:PT1H
BEGIN:VTIMEZONE
TZID:America/New_York
BEGIN:DAYLIGHT
TZOFFSETFROM:-0500
TZOFFSETTO:-0400
TZNAME:EDT
DTSTART:20220313T070000
END:DAYLIGHT
BEGIN:STANDARD
TZOFFSETFROM:-0400
TZOFFSETTO:-0500
TZNAME:EST
DTSTART:20221106T060000
END:STANDARD
BEGIN:DAYLIGHT
TZOFFSETFROM:-0500
TZOFFSETTO:-0400
TZNAME:EDT
DTSTART:20230312T070000
END:DAYLIGHT
BEGIN:STANDARD
TZOFFSETFROM:-0400
TZOFFSETTO:-0500
TZNAME:EST
DTSTART:20231105T060000
END:STANDARD
BEGIN:DAYLIGHT
TZOFFSETFROM:-0500
TZOFFSETTO:-0400
TZNAME:EDT
DTSTART:20240310T070000
END:DAYLIGHT
BEGIN:STANDARD
TZOFFSETFROM:-0400
TZOFFSETTO:-0500
TZNAME:EST
DTSTART:20241103T060000
END:STANDARD
END:VTIMEZONE
BEGIN:VEVENT
DTSTART;TZID=America/New_York:20230905T180000
DTEND;TZID=America/New_York:20230905T210000
DTSTAMP:20260423T174912
CREATED:20230904T163221Z
LAST-MODIFIED:20230904T194958Z
UID:446-1693936800-1693947600@f4-training.com
SUMMARY:Jane Wick Academy
DESCRIPTION:Welcome to the Jane Wick Academy!  In this course you will build and refine the skills you acquired in the Jane Wick Seminar (Combined Safer Now and Pistol 1).  In the Academy we will integrate practical self-defense\, pistol handling and fitness into scenario based workouts to re-enforce your ability to defend yourself while developing your endurance\, strength\, power and durability.  This is a 10 week block of training\, with 20 days of attendance scheduled (2 days weekly).   
URL:https://f4-training.com/event/tampa-fightfit/
LOCATION:Main Tampa Location\, 10134 Fisher Ave\, Suite B4\, TAMPA\, FL\, 33619\, United States
CATEGORIES:Jane Wick Academy
END:VEVENT
END:VCALENDAR