BEGIN:VCALENDAR
VERSION:2.0
PRODID:-//F4 Training - ECPv6.15.20//NONSGML v1.0//EN
CALSCALE:GREGORIAN
METHOD:PUBLISH
X-WR-CALNAME:F4 Training
X-ORIGINAL-URL:https://f4-training.com
X-WR-CALDESC:Events for F4 Training
REFRESH-INTERVAL;VALUE=DURATION:PT1H
X-Robots-Tag:noindex
X-PUBLISHED-TTL:PT1H
BEGIN:VTIMEZONE
TZID:America/Halifax
BEGIN:DAYLIGHT
TZOFFSETFROM:-0400
TZOFFSETTO:-0300
TZNAME:ADT
DTSTART:20220313T060000
END:DAYLIGHT
BEGIN:STANDARD
TZOFFSETFROM:-0300
TZOFFSETTO:-0400
TZNAME:AST
DTSTART:20221106T050000
END:STANDARD
BEGIN:DAYLIGHT
TZOFFSETFROM:-0400
TZOFFSETTO:-0300
TZNAME:ADT
DTSTART:20230312T060000
END:DAYLIGHT
BEGIN:STANDARD
TZOFFSETFROM:-0300
TZOFFSETTO:-0400
TZNAME:AST
DTSTART:20231105T050000
END:STANDARD
BEGIN:DAYLIGHT
TZOFFSETFROM:-0400
TZOFFSETTO:-0300
TZNAME:ADT
DTSTART:20240310T060000
END:DAYLIGHT
BEGIN:STANDARD
TZOFFSETFROM:-0300
TZOFFSETTO:-0400
TZNAME:AST
DTSTART:20241103T050000
END:STANDARD
END:VTIMEZONE
BEGIN:VEVENT
DTSTART;TZID=America/Halifax:20230930T090000
DTEND;TZID=America/Halifax:20230930T180000
DTSTAMP:20260423T230638
CREATED:20230904T202612Z
LAST-MODIFIED:20230904T202612Z
UID:492-1696064400-1696096800@f4-training.com
SUMMARY:Safer In a Day
DESCRIPTION:Gain confidence in defending yourself in real-world situations by learning to leverage Blauer Tactical Systems SPEAR methodology.  This one day personal defense training is your key to situational awareness and defense against an attacker.
URL:https://f4-training.com/event/safer-in-a-day/
LOCATION:University of Florida\, 32611\, United States
CATEGORIES:Safer In a Day
END:VEVENT
END:VCALENDAR